BEGIN:VCALENDAR
VERSION:2.0
PRODID:-//Mass Access - ECPv6.15.20//NONSGML v1.0//EN
CALSCALE:GREGORIAN
METHOD:PUBLISH
X-ORIGINAL-URL:https://www.massaccess.org
X-WR-CALDESC:Events for Mass Access
REFRESH-INTERVAL;VALUE=DURATION:PT1H
X-Robots-Tag:noindex
X-PUBLISHED-TTL:PT1H
BEGIN:VTIMEZONE
TZID:UTC
BEGIN:STANDARD
TZOFFSETFROM:+0000
TZOFFSETTO:+0000
TZNAME:UTC
DTSTART:20250101T000000
END:STANDARD
END:VTIMEZONE
BEGIN:VEVENT
DTSTART;TZID=UTC:20260327T110000
DTEND;TZID=UTC:20260327T120000
DTSTAMP:20260423T102309
CREATED:20260320T182828Z
LAST-MODIFIED:20260320T200218Z
UID:10000005-1774609200-1774612800@www.massaccess.org
SUMMARY:March MassAccess Virtual Meetup
DESCRIPTION:Welcome to MassAccess’s Virtual Meetups – quarterly Zoom chats for members to talk shop between in-person events. \nSave the Dates: \nFri\, 3/27 @ 11 AM\nFri\, 7/24 @ 11 AM\nFri\, 9/25 @ 11 AM\nFri\, 12/11 @ 11 AM \nYou can join the recurring calendar here. \nWhat you can expect: \n\nLegislative Updates\nCommunity Updates\nMember-Submitted Discussion Topics (eg\, Alternative Revenue\, Classes\, etc.)\n\nGot an idea for a topic? Email us at events@massaccess.org
URL:https://www.massaccess.org/event/march-massaccess-virtual-meetup/
LOCATION:ONLINE
ATTACH;FMTTYPE=image/png:https://www.massaccess.org/wp-content/uploads/2026/03/Virtual-Meet-Up-logo.png
ORGANIZER;CN="MassAccess":MAILTO:events@massaccess.org
END:VEVENT
END:VCALENDAR