BEGIN:VCALENDAR
VERSION:2.0
PRODID:-//Mass Access - ECPv6.15.20//NONSGML v1.0//EN
CALSCALE:GREGORIAN
METHOD:PUBLISH
X-WR-CALNAME:Mass Access
X-ORIGINAL-URL:https://www.massaccess.org
X-WR-CALDESC:Events for Mass Access
REFRESH-INTERVAL;VALUE=DURATION:PT1H
X-Robots-Tag:noindex
X-PUBLISHED-TTL:PT1H
BEGIN:VTIMEZONE
TZID:UTC
BEGIN:STANDARD
TZOFFSETFROM:+0000
TZOFFSETTO:+0000
TZNAME:UTC
DTSTART:20240101T000000
END:STANDARD
END:VTIMEZONE
BEGIN:VEVENT
DTSTART;TZID=UTC:20250910T130000
DTEND;TZID=UTC:20250910T140000
DTSTAMP:20260423T211515
CREATED:20250826T145834Z
LAST-MODIFIED:20250902T155158Z
UID:10000001-1757509200-1757512800@www.massaccess.org
SUMMARY:MassAccess Webinar: From Compliance to Confidence: Navigating New HR Rules & Boosting Retirement Benefits
DESCRIPTION:As nonprofit leaders\, our responsibilities extend beyond simply avoiding penalties. It’s about doing right by your team—legally\, ethically\, and strategically. In the first half of our time together\, Positively Partners’ Senior Vice President and resident HR expert\, Jill Smerkers\, will unpack the recent Attorney General briefing and its implications for nonprofit employers. In the second half\, we’ll shift to meeting the spirit of that responsibility—investing in your people’s futures through a retirement plan that makes saving simple\, accessible\, and impactful. Lisa Cardinal\, Massachusetts 401(k) CORE Plan Sales Director\, will talk about the state-sponsored 401(k) Plan\, how it is tailored to you\, and how it can help your employees save for retirement.
URL:https://www.massaccess.org/event/massaccess-webinar-hr2025/
LOCATION:ONLINE
END:VEVENT
END:VCALENDAR