BEGIN:VCALENDAR
VERSION:2.0
PRODID:-//Mass Access - ECPv6.15.20//NONSGML v1.0//EN
CALSCALE:GREGORIAN
METHOD:PUBLISH
X-ORIGINAL-URL:https://www.massaccess.org
X-WR-CALDESC:Events for Mass Access
REFRESH-INTERVAL;VALUE=DURATION:PT1H
X-Robots-Tag:noindex
X-PUBLISHED-TTL:PT1H
BEGIN:VTIMEZONE
TZID:UTC
BEGIN:STANDARD
TZOFFSETFROM:+0000
TZOFFSETTO:+0000
TZNAME:UTC
DTSTART:20240101T000000
END:STANDARD
END:VTIMEZONE
BEGIN:VEVENT
DTSTART;TZID=UTC:20251010T093000
DTEND;TZID=UTC:20251010T143000
DTSTAMP:20260423T210805
CREATED:20250826T160701Z
LAST-MODIFIED:20250902T160245Z
UID:10000002-1760088600-1760106600@www.massaccess.org
SUMMARY:Watertown Meet & Greet 2025
DESCRIPTION:MassAccess Meet & Greet: Watertown Cable Access Corp.\nFriday\, October 10th\, 9:30 AM to 2:30 PM\nCheck out Watertown Cable Access Corp.’s new digs at the next MassAccess Meet and Greet! Colleagues from around the state are welcome to join us for breakfast\, lunch\, presentations\, and a roundtable discussion! Executive Director Andrea Hogan and her team will be offering tours of the new space\, and all are welcome to submit questions for the roundtable discussion in advance.
URL:https://www.massaccess.org/event/watertown-meet-greet-2025/
LOCATION:Watertown Cable Access\, 30 Common Street Suite 120\, Watertown\, MA\, 02472\, United States
ORGANIZER;CN="MassAccess":MAILTO:events@massaccess.org
END:VEVENT
END:VCALENDAR